BEGIN:VCALENDAR
VERSION:2.0
PRODID:-//arran4//Golang ICS Library
METHOD:PUBLISH
NAME:RUN IN CLARK Leg 1 - CLARK CITY NIGHTRUN
X-WR-CALNAME:RUN IN CLARK Leg 1 - CLARK CITY NIGHTRUN
DESCRIPTION:Calendar for RUN IN CLARK Leg 1 - CLARK CITY NIGHTRUN
TIMEZONE-ID:Asia/Manila
BEGIN:VEVENT
UID:866dfca3-369e-4cdd-84d5-925a1d86f7f0
CREATED:20260421T060005Z
DTSTAMP:20260421T141750Z
LAST-MODIFIED:20260421T060005Z
SUMMARY:RUN IN CLARK Leg 1 - CLARK CITY NIGHTRUN
DESCRIPTION:Find more events at https://mymindisracing.com
DTSTART;TZID=Asia/Manila:20260425T120000
DTEND;TZID=Asia/Manila:20260425T230000
LOCATION:MA Roxas Hiway\, Clark\, PAM\, PH
GEO:15.165721;120.575625
X-APPLE-STRUCTURED-LOCATION;VALUE=URI:geo:15.165721,120.575625
X-TITLE:Filinvest Mimosa Plus Event grounds
URL:https://www.facebook.com/ClarkCityMarathon
END:VEVENT
END:VCALENDAR
