BEGIN:VCALENDAR
VERSION:2.0
PRODID:-//arran4//Golang ICS Library
METHOD:PUBLISH
NAME:Legal Beagle 5K Run/Walk
X-WR-CALNAME:Legal Beagle 5K Run/Walk
DESCRIPTION:Calendar for Legal Beagle 5K Run/Walk
TIMEZONE-ID:America/Chicago
BEGIN:VEVENT
UID:858ac09a-c96a-4ba0-9d8c-bdca260daf91
CREATED:20260420T062548Z
DTSTAMP:20260421T141919Z
LAST-MODIFIED:20260421T061329Z
SUMMARY:Legal Beagle 5K Run/Walk
DESCRIPTION:Find more events at https://mymindisracing.com
DTSTART;TZID=America/Chicago:20260425T081500
LOCATION:Unnamed Road\, Ridgeland\, MS\, 39157\, US
GEO:32.4383454;-90.1459924
X-APPLE-STRUCTURED-LOCATION;VALUE=URI:geo:32.438345,-90.145992
X-TITLE:Legal Beagle 5K Run/Walk
URL:https://raceroster.com/events/2026/116259/legal-beagle-5k-runwalk
END:VEVENT
END:VCALENDAR
