BEGIN:VCALENDAR
VERSION:2.0
PRODID:-//arran4//Golang ICS Library
METHOD:PUBLISH
NAME:Penyagolosa Trails
X-WR-CALNAME:Penyagolosa Trails
DESCRIPTION:Calendar for Penyagolosa Trails
TIMEZONE-ID:Europe/Madrid
BEGIN:VEVENT
UID:857b0429-8e57-4bec-aae2-bd7d12290b19
CREATED:20260419T062056Z
DTSTAMP:20260421T105726Z
LAST-MODIFIED:20260421T060640Z
SUMMARY:Penyagolosa Trails
DESCRIPTION:Find more events at https://mymindisracing.com
DTSTART:20260418T000000Z
LOCATION:Castellón\, VC\, ES
GEO:40.2518568;-0.0615052
X-APPLE-STRUCTURED-LOCATION;VALUE=URI:geo:40.251857,-0.061505
X-TITLE:Penyagolosa Trails
URL:https://itra.run/Races/RaceDetails/Penyagolosa.Trails.CSP/2026/109280
END:VEVENT
END:VCALENDAR
