BEGIN:VCALENDAR
VERSION:2.0
PRODID:-//arran4//Golang ICS Library
METHOD:PUBLISH
NAME:2026 Phinman Youth Triathlon
X-WR-CALNAME:2026 Phinman Youth Triathlon
DESCRIPTION:Calendar for 2026 Phinman Youth Triathlon
TIMEZONE-ID:America/Chicago
BEGIN:VEVENT
UID:852deaf9-18ed-49b6-89fa-01e0bf9049b8
CREATED:20260420T060010Z
DTSTAMP:20260421T105733Z
LAST-MODIFIED:20260421T060016Z
SUMMARY:2026 Phinman Youth Triathlon
DESCRIPTION:Find more events at https://mymindisracing.com
DTSTART;TZID=America/Chicago:20260525T080000
DTEND;TZID=America/Chicago:20260525T120000
LOCATION:Johnnie Sims Park\, Gulf Shores\, AL\, 36542\, US
GEO:30.273606;-87.694793
X-APPLE-STRUCTURED-LOCATION;VALUE=URI:geo:30.273606,-87.694793
X-TITLE:Johnnie Sims Park
URL:http://www.gulfshoresal.gov/phinman
END:VEVENT
END:VCALENDAR
