BEGIN:VCALENDAR
VERSION:2.0
PRODID:-//arran4//Golang ICS Library
METHOD:PUBLISH
NAME:2026 Trail Run / Walk @ Navarino Nature Center
X-WR-CALNAME:2026 Trail Run / Walk @ Navarino Nature Center
DESCRIPTION:Calendar for 2026 Trail Run / Walk @ Navarino Nature Center
TIMEZONE-ID:America/Chicago
BEGIN:VEVENT
UID:84bcc825-b67d-4967-83b1-d81f1ec6dddf
CREATED:20260422T060019Z
DTSTAMP:20260423T093727Z
LAST-MODIFIED:20260423T060006Z
SUMMARY:2026 Trail Run / Walk @ Navarino Nature Center
DESCRIPTION:Find more events at https://mymindisracing.com
DTSTART;TZID=America/Chicago:20260425T090000
DTEND;TZID=America/Chicago:20260425T110000
LOCATION:W5646 Lindsten Road\, Shiocton\, WI\, 54170\, US
GEO:44.632589;-88.52303
X-APPLE-STRUCTURED-LOCATION;VALUE=URI:geo:44.632589,-88.523030
X-TITLE:Navarino Nature Center
URL:https://www.navarino.org/trail-runs
END:VEVENT
END:VCALENDAR
