BEGIN:VCALENDAR
VERSION:2.0
PRODID:-//arran4//Golang ICS Library
METHOD:PUBLISH
NAME:Jumping Bean Jamboree
X-WR-CALNAME:Jumping Bean Jamboree
DESCRIPTION:Calendar for Jumping Bean Jamboree
TIMEZONE-ID:America/New_York
BEGIN:VEVENT
UID:83af72a0-df6f-4cff-bffb-39916514d798
CREATED:20260420T062653Z
DTSTAMP:20260421T105905Z
LAST-MODIFIED:20260421T063448Z
SUMMARY:Jumping Bean Jamboree
DESCRIPTION:Find more events at https://mymindisracing.com
DTSTART;TZID=America/New_York:20260530T083000
LOCATION:155 West Center Street\, West Bridgewater\, MA\, 02379\, US
GEO:42.0204154;-71.0172263
X-APPLE-STRUCTURED-LOCATION;VALUE=URI:geo:42.020415,-71.017226
X-TITLE:Jumping Bean Jamboree
URL:https://raceroster.com/events/2026/118100/jumping-bean-jamboree
END:VEVENT
END:VCALENDAR
