BEGIN:VCALENDAR
VERSION:2.0
PRODID:-//arran4//Golang ICS Library
METHOD:PUBLISH
NAME:CFID 2026 - 12th Annual Bug Run and 1st Pub Crawl
X-WR-CALNAME:CFID 2026 - 12th Annual Bug Run and 1st Pub Crawl
DESCRIPTION:Calendar for CFID 2026 - 12th Annual Bug Run and 1st Pub Crawl
TIMEZONE-ID:America/St_Johns
BEGIN:VEVENT
UID:82c7763c-62c4-4fec-82cb-3dbfb2df8e29
CREATED:20260420T063054Z
DTSTAMP:20260421T141336Z
LAST-MODIFIED:20260421T062609Z
SUMMARY:CFID 2026 - 12th Annual Bug Run and 1st Pub Crawl
DESCRIPTION:Find more events at https://mymindisracing.com
DTSTART;TZID=America/St_Johns:20260501T070000
LOCATION:Signal Hill Road\, St. John's\, NL\, CA
GEO:47.5722241;-52.6908791
X-APPLE-STRUCTURED-LOCATION;VALUE=URI:geo:47.572224,-52.690879
X-TITLE:CFID 2026 - 12th Annual Bug Run and 1st Pub Crawl
URL:https://www.researchid.com/
END:VEVENT
END:VCALENDAR
