BEGIN:VCALENDAR
VERSION:2.0
PRODID:-//arran4//Golang ICS Library
METHOD:PUBLISH
NAME:Race to Cure ALS
X-WR-CALNAME:Race to Cure ALS
DESCRIPTION:Calendar for Race to Cure ALS
TIMEZONE-ID:America/Chicago
BEGIN:VEVENT
UID:81ad0d9d-0afb-4e7f-a097-5a7acf53e636
CREATED:20260420T063849Z
DTSTAMP:20260421T105650Z
LAST-MODIFIED:20260421T061441Z
SUMMARY:Race to Cure ALS
DESCRIPTION:Find more events at https://mymindisracing.com
DTSTART;TZID=America/Chicago:20260613T080000
LOCATION:298 East Railroad Avenue\, Yazoo County\, MS\, 39040\, US
GEO:32.640543;-90.364703
X-APPLE-STRUCTURED-LOCATION;VALUE=URI:geo:32.640543,-90.364703
X-TITLE:Race to Cure ALS
URL:https://raceroster.com/events/2026/114175/race-to-cure-als
END:VEVENT
END:VCALENDAR
