BEGIN:VCALENDAR
VERSION:2.0
PRODID:-//arran4//Golang ICS Library
METHOD:PUBLISH
NAME:Lunenburg 5km Road Race and Muffin Run 2026
X-WR-CALNAME:Lunenburg 5km Road Race and Muffin Run 2026
DESCRIPTION:Calendar for Lunenburg 5km Road Race and Muffin Run 2026
TIMEZONE-ID:America/Halifax
BEGIN:VEVENT
UID:809b662c-287a-41d7-ac57-35544907c54f
CREATED:20260420T063614Z
DTSTAMP:20260421T105742Z
LAST-MODIFIED:20260421T061056Z
SUMMARY:Lunenburg 5km Road Race and Muffin Run 2026
DESCRIPTION:Find more events at https://mymindisracing.com
DTSTART;TZID=America/Halifax:20260607T090000
LOCATION:6 Pelham Street\, Lunenburg\, NS\, CA
GEO:44.3778984;-64.3145401
X-APPLE-STRUCTURED-LOCATION;VALUE=URI:geo:44.377898,-64.314540
X-TITLE:Lunenburg 5km Road Race and Muffin Run 2026
URL:https://raceroster.com/events/2023/72281/lunenburg-5km-road-race-and-mu
 ffin-run-2023/lunenburg-5km-road-race-and-muffin-run-2022
END:VEVENT
END:VCALENDAR
