BEGIN:VCALENDAR
VERSION:2.0
PRODID:-//arran4//Golang ICS Library
METHOD:PUBLISH
NAME:30. Pinswanger Radrennen
X-WR-CALNAME:30. Pinswanger Radrennen
DESCRIPTION:Calendar for 30. Pinswanger Radrennen
TIMEZONE-ID:Europe/Vienna
BEGIN:VEVENT
UID:804a27e3-e163-4ac7-8d7b-46534f94f885
CREATED:20260417T061414Z
DTSTAMP:20260422T084710Z
LAST-MODIFIED:20260422T061401Z
SUMMARY:30. Pinswanger Radrennen
DESCRIPTION:Find more events at https://mymindisracing.com
DTSTART:20260620T000000Z
LOCATION:Pinswang\, 7\, AT
GEO:47.5417074;10.6903833
X-APPLE-STRUCTURED-LOCATION;VALUE=URI:geo:47.541707,10.690383
X-TITLE:30. Pinswanger Radrennen
URL:http://www.rc-allgaeu.de/
END:VEVENT
END:VCALENDAR
