BEGIN:VCALENDAR
VERSION:2.0
PRODID:-//arran4//Golang ICS Library
METHOD:PUBLISH
NAME:MightyMite Triathlon
X-WR-CALNAME:MightyMite Triathlon
DESCRIPTION:Calendar for MightyMite Triathlon
TIMEZONE-ID:America/Chicago
BEGIN:VEVENT
UID:803ae481-989e-4699-b856-cdada87ce044
CREATED:20260420T063337Z
DTSTAMP:20260421T105558Z
LAST-MODIFIED:20260421T062647Z
SUMMARY:MightyMite Triathlon
DESCRIPTION:Find more events at https://mymindisracing.com
DTSTART;TZID=America/Chicago:20260718T080000
LOCATION:1700 Newcastle Road\, Forrest City\, AR\, 72360\, US
GEO:35.0417579;-90.7673336
X-APPLE-STRUCTURED-LOCATION;VALUE=URI:geo:35.041758,-90.767334
X-TITLE:MightyMite Triathlon
URL:https://raceroster.com/events/2026/118698/mightymite-triathlon
END:VEVENT
END:VCALENDAR
