BEGIN:VCALENDAR
VERSION:2.0
PRODID:-//arran4//Golang ICS Library
METHOD:PUBLISH
NAME:Hanoi Mountain Trail
X-WR-CALNAME:Hanoi Mountain Trail
DESCRIPTION:Calendar for Hanoi Mountain Trail
TIMEZONE-ID:Asia/Ho_Chi_Minh
BEGIN:VEVENT
UID:7f9c8145-d086-4685-adba-202936184a79
CREATED:20260419T062026Z
DTSTAMP:20260421T105910Z
LAST-MODIFIED:20260421T060638Z
SUMMARY:Hanoi Mountain Trail
DESCRIPTION:Find more events at https://mymindisracing.com
DTSTART:20260419T000000Z
LOCATION:Soc Son\, 44\, VN
GEO:10.122984;105.0157502
X-APPLE-STRUCTURED-LOCATION;VALUE=URI:geo:10.122984,105.015750
X-TITLE:Hanoi Mountain Trail
URL:https://itra.run/Races/RaceDetails/Hanoi.Mountain.Trail.IMMORTAL.60KM/2
 026/114434
END:VEVENT
END:VCALENDAR
