BEGIN:VCALENDAR
VERSION:2.0
PRODID:-//arran4//Golang ICS Library
METHOD:PUBLISH
NAME:4th Annual Stronger Than a Stroke Fun Run
X-WR-CALNAME:4th Annual Stronger Than a Stroke Fun Run
DESCRIPTION:Calendar for 4th Annual Stronger Than a Stroke Fun Run
TIMEZONE-ID:America/Chicago
BEGIN:VEVENT
UID:7f7c1d39-a08a-47d7-9228-44648ddd16fb
CREATED:20260420T062747Z
DTSTAMP:20260421T105824Z
LAST-MODIFIED:20260421T062206Z
SUMMARY:4th Annual Stronger Than a Stroke Fun Run
DESCRIPTION:Find more events at https://mymindisracing.com
DTSTART;TZID=America/Chicago:20260502T081500
LOCATION:Olive Branch Park Walking Path\, Olive Branch\, MS\, 38654\, US
GEO:34.955726;-89.8379574
X-APPLE-STRUCTURED-LOCATION;VALUE=URI:geo:34.955726,-89.837957
X-TITLE:4th Annual Stronger Than a Stroke Fun Run
URL:https://raceroster.com
END:VEVENT
END:VCALENDAR
