BEGIN:VCALENDAR
VERSION:2.0
PRODID:-//arran4//Golang ICS Library
METHOD:PUBLISH
NAME:UP SIKLAB RUN 2026
X-WR-CALNAME:UP SIKLAB RUN 2026
DESCRIPTION:Calendar for UP SIKLAB RUN 2026
TIMEZONE-ID:Asia/Manila
BEGIN:VEVENT
UID:7bcfb45a-9175-4a62-a748-ba86a99b9e3b
CREATED:20260420T063038Z
DTSTAMP:20260421T124005Z
LAST-MODIFIED:20260421T063257Z
SUMMARY:UP SIKLAB RUN 2026
DESCRIPTION:Find more events at https://mymindisracing.com
DTSTART;TZID=Asia/Manila:20260523T040000
LOCATION:M. Roxas Avenue\, Quezon City\, 00\, 1101\, PH
GEO:14.6536439;121.0696959
X-APPLE-STRUCTURED-LOCATION;VALUE=URI:geo:14.653644,121.069696
X-TITLE:UP SIKLAB RUN 2026
URL:https://raceroster.com/events/2026/115954/up-siklab-run-2026
END:VEVENT
END:VCALENDAR
