BEGIN:VCALENDAR
VERSION:2.0
PRODID:-//arran4//Golang ICS Library
METHOD:PUBLISH
NAME:Maverick Stampede
X-WR-CALNAME:Maverick Stampede
DESCRIPTION:Calendar for Maverick Stampede
TIMEZONE-ID:America/Chicago
BEGIN:VEVENT
UID:7adcca30-025a-46eb-8c55-319005e059cb
CREATED:20260420T064052Z
DTSTAMP:20260421T105620Z
LAST-MODIFIED:20260421T060847Z
SUMMARY:Maverick Stampede
DESCRIPTION:Find more events at https://mymindisracing.com
DTSTART;TZID=America/Chicago:20260425T080000
LOCATION:Calhoun Parkway\, Gluckstadt\, MS\, US
GEO:32.5347325;-90.1041599
X-APPLE-STRUCTURED-LOCATION;VALUE=URI:geo:32.534732,-90.104160
X-TITLE:Maverick Stampede
URL:https://raceroster.com/events/2026/117039/maverick-stampede
END:VEVENT
END:VCALENDAR
