BEGIN:VCALENDAR
VERSION:2.0
PRODID:-//arran4//Golang ICS Library
METHOD:PUBLISH
NAME:Riverina Trail Running Series 2026
X-WR-CALNAME:Riverina Trail Running Series 2026
DESCRIPTION:Calendar for Riverina Trail Running Series 2026
TIMEZONE-ID:Australia/Melbourne
BEGIN:VEVENT
UID:78d740d0-cc41-4f75-bdd6-d578dc66d1cf
CREATED:20260422T062413Z
DTSTAMP:20260423T093611Z
LAST-MODIFIED:20260423T060329Z
SUMMARY:Riverina Trail Running Series 2026
DESCRIPTION:Find more events at https://mymindisracing.com
DTSTART:20260419T000000Z
LOCATION:Bandiana\, VIC\, 3691\, AU
GEO:-36.131111;146.937203
X-APPLE-STRUCTURED-LOCATION;VALUE=URI:geo:-36.131111,146.937203
X-TITLE:Riverina Trail Running Series 2026
URL:https://itra.run/Races/RaceDetails/Riverina.Trail.Running.Series.2026.H
 oun.Hill/2026/118018
END:VEVENT
END:VCALENDAR
