BEGIN:VCALENDAR
VERSION:2.0
PRODID:-//arran4//Golang ICS Library
METHOD:PUBLISH
NAME:The Blueberry Jubilee 5K and Fun Run
X-WR-CALNAME:The Blueberry Jubilee 5K and Fun Run
DESCRIPTION:Calendar for The Blueberry Jubilee 5K and Fun Run
TIMEZONE-ID:America/Chicago
BEGIN:VEVENT
UID:78d57e4e-5cda-44d9-aace-10a5ed016c4a
CREATED:20260420T064348Z
DTSTAMP:20260421T105619Z
LAST-MODIFIED:20260421T062747Z
SUMMARY:The Blueberry Jubilee 5K and Fun Run
DESCRIPTION:Find more events at https://mymindisracing.com
DTSTART;TZID=America/Chicago:20260613T073000
LOCATION:765 South Main Street\, Pearl River County\, MS\, 39470\, US
GEO:30.8401009;-89.5345747
X-APPLE-STRUCTURED-LOCATION;VALUE=URI:geo:30.840101,-89.534575
X-TITLE:The Blueberry Jubilee 5K and Fun Run
URL:https://blueberryjubilee.net/
END:VEVENT
END:VCALENDAR
