BEGIN:VCALENDAR
VERSION:2.0
PRODID:-//arran4//Golang ICS Library
METHOD:PUBLISH
NAME:Kazimierz Dolny Race
X-WR-CALNAME:Kazimierz Dolny Race
DESCRIPTION:Calendar for Kazimierz Dolny Race
TIMEZONE-ID:Europe/Warsaw
BEGIN:VEVENT
UID:77d233b3-bdbb-4cd3-98df-f1e466a65167
CREATED:20260419T062050Z
DTSTAMP:20260421T105823Z
LAST-MODIFIED:20260421T060640Z
SUMMARY:Kazimierz Dolny Race
DESCRIPTION:Find more events at https://mymindisracing.com
DTSTART:20260418T000000Z
LOCATION:Kazimierz Dolny\, 06\, 24-120\, PL
GEO:51.3220058;21.947372
X-APPLE-STRUCTURED-LOCATION;VALUE=URI:geo:51.322006,21.947372
X-TITLE:Kazimierz Dolny Race
URL:https://itra.run/Races/RaceDetails/Kazimierz.Dolny.Race.Maraton.Z%C5%82
 oty.Kogut/2026/116984
END:VEVENT
END:VCALENDAR
