BEGIN:VCALENDAR
VERSION:2.0
PRODID:-//arran4//Golang ICS Library
METHOD:PUBLISH
NAME:2026 North of 7 Challenge
X-WR-CALNAME:2026 North of 7 Challenge
DESCRIPTION:Calendar for 2026 North of 7 Challenge
TIMEZONE-ID:America/Toronto
BEGIN:VEVENT
UID:77c85d32-b51f-4100-ae93-ddc820d15113
CREATED:20260420T062545Z
DTSTAMP:20260421T105726Z
LAST-MODIFIED:20260421T063107Z
SUMMARY:2026 North of 7 Challenge
DESCRIPTION:Find more events at https://mymindisracing.com
DTSTART;TZID=America/Toronto:20260829T120000
LOCATION:19 Jacques Bay Road\, Addington Highlands\, ON\, CA
GEO:44.8498899;-77.1975265
X-APPLE-STRUCTURED-LOCATION;VALUE=URI:geo:44.849890,-77.197526
X-TITLE:2026 North of 7 Challenge
URL:https://northof7challenge.com/
END:VEVENT
END:VCALENDAR
