BEGIN:VCALENDAR
VERSION:2.0
PRODID:-//arran4//Golang ICS Library
METHOD:PUBLISH
NAME:Kalmyk Camel Trophy
X-WR-CALNAME:Kalmyk Camel Trophy
DESCRIPTION:Calendar for Kalmyk Camel Trophy
TIMEZONE-ID:Europe/Moscow
BEGIN:VEVENT
UID:74019585-4c69-4969-a596-6c67fc083945
CREATED:20260419T062050Z
DTSTAMP:20260421T110100Z
LAST-MODIFIED:20260421T060640Z
SUMMARY:Kalmyk Camel Trophy
DESCRIPTION:Find more events at https://mymindisracing.com
DTSTART:20260418T000000Z
LOCATION:Elista\, KL\, RU
GEO:46.3073288;44.2692214
X-APPLE-STRUCTURED-LOCATION;VALUE=URI:geo:46.307329,44.269221
X-TITLE:Kalmyk Camel Trophy
URL:https://itra.run/Races/RaceDetails/Kalmyk.Camel.Trophy.S80/2026/113783
END:VEVENT
END:VCALENDAR
