BEGIN:VCALENDAR
VERSION:2.0
PRODID:-//arran4//Golang ICS Library
METHOD:PUBLISH
NAME:VTM powered by Salomon GRVL
X-WR-CALNAME:VTM powered by Salomon GRVL
DESCRIPTION:Calendar for VTM powered by Salomon GRVL
TIMEZONE-ID:Europe/Budapest
BEGIN:VEVENT
UID:73fd5711-31c9-40f0-bb67-ade7ade3c3f9
CREATED:20260419T062041Z
DTSTAMP:20260421T105824Z
LAST-MODIFIED:20260421T060639Z
SUMMARY:VTM powered by Salomon GRVL
DESCRIPTION:Find more events at https://mymindisracing.com
DTSTART:20260419T000000Z
LOCATION:Szar\, FE\, 2066\, HU
GEO:47.4787964;18.5185002
X-APPLE-STRUCTURED-LOCATION;VALUE=URI:geo:47.478796,18.518500
X-TITLE:VTM powered by Salomon GRVL
URL:https://itra.run/Races/RaceDetails/VTM.powered.by.Salomon.GRVL.VTM.Ultr
 amaraton/2026/115281
END:VEVENT
END:VCALENDAR
