BEGIN:VCALENDAR
VERSION:2.0
PRODID:-//arran4//Golang ICS Library
METHOD:PUBLISH
NAME:15th Annual Bass Lake Yosemite Triathlon
X-WR-CALNAME:15th Annual Bass Lake Yosemite Triathlon
DESCRIPTION:Calendar for 15th Annual Bass Lake Yosemite Triathlon
TIMEZONE-ID:America/Los_Angeles
BEGIN:VEVENT
UID:7261dda0-a9a4-4e33-b762-f5c78ec58cbd
CREATED:20260420T060011Z
DTSTAMP:20260421T105910Z
LAST-MODIFIED:20260421T060017Z
SUMMARY:15th Annual Bass Lake Yosemite Triathlon
DESCRIPTION:Find more events at https://mymindisracing.com
DTSTART;TZID=America/Los_Angeles:20260530T070000
DTEND;TZID=America/Los_Angeles:20260530T155900
LOCATION:54432 Road 432\, Bass Lake\, CA\, 93604\, US
GEO:37.320107;-119.557967
X-APPLE-STRUCTURED-LOCATION;VALUE=URI:geo:37.320107,-119.557967
X-TITLE:Bass Lake
URL:http://basslaketri.com
END:VEVENT
END:VCALENDAR
