BEGIN:VCALENDAR
VERSION:2.0
PRODID:-//arran4//Golang ICS Library
METHOD:PUBLISH
NAME:Run for Newmarket 2026
X-WR-CALNAME:Run for Newmarket 2026
DESCRIPTION:Calendar for Run for Newmarket 2026
TIMEZONE-ID:America/Toronto
BEGIN:VEVENT
UID:725c2a58-c06d-4f1c-b14e-3fa5e92f1b25
CREATED:20260420T063039Z
DTSTAMP:20260421T141817Z
LAST-MODIFIED:20260421T060946Z
SUMMARY:Run for Newmarket 2026
DESCRIPTION:Find more events at https://mymindisracing.com
DTSTART;TZID=America/Toronto:20261004T080000
LOCATION:Tom Taylor Trail/Nokiidaa Trail\, Newmarket\, ON\, CA
GEO:44.0513391;-79.4548212
X-APPLE-STRUCTURED-LOCATION;VALUE=URI:geo:44.051339,-79.454821
X-TITLE:Run for Newmarket 2026
URL:https://runfornewmarket.ca/
END:VEVENT
END:VCALENDAR
