BEGIN:VCALENDAR
VERSION:2.0
PRODID:-//arran4//Golang ICS Library
METHOD:PUBLISH
NAME:Race to the Sunset
X-WR-CALNAME:Race to the Sunset
DESCRIPTION:Calendar for Race to the Sunset
TIMEZONE-ID:America/Toronto
BEGIN:VEVENT
UID:7098dec9-d132-4b47-8f3a-468288aba32a
CREATED:20260420T063422Z
DTSTAMP:20260421T105742Z
LAST-MODIFIED:20260421T061642Z
SUMMARY:Race to the Sunset
DESCRIPTION:Find more events at https://mymindisracing.com
DTSTART;TZID=America/Toronto:20260605T183000
LOCATION:Lakeview Drive\, Belle River\, ON\, CA
GEO:42.2965044;-82.7010161
X-APPLE-STRUCTURED-LOCATION;VALUE=URI:geo:42.296504,-82.701016
X-TITLE:Race to the Sunset
URL:https://raceroster.com/events/2026/118102/race-to-the-sunset
END:VEVENT
END:VCALENDAR
