BEGIN:VCALENDAR
VERSION:2.0
PRODID:-//arran4//Golang ICS Library
METHOD:PUBLISH
NAME:Roll Racing 16
X-WR-CALNAME:Roll Racing 16
DESCRIPTION:Calendar for Roll Racing 16
TIMEZONE-ID:Australia/Darwin
BEGIN:VEVENT
UID:707da21f-f693-4883-a890-c1ac48b6d9e3
CREATED:20260420T062732Z
DTSTAMP:20260421T110211Z
LAST-MODIFIED:20260421T062819Z
SUMMARY:Roll Racing 16
DESCRIPTION:Find more events at https://mymindisracing.com
DTSTART;TZID=Australia/Darwin:20260424T173000
LOCATION:171 Hidden Valley Road\, Hidden Valley\, NT\, 0822\, AU
GEO:-12.4460565;130.9083267
X-APPLE-STRUCTURED-LOCATION;VALUE=URI:geo:-12.446056,130.908327
X-TITLE:Roll Racing 16
URL:https://raceroster.com/events/2026/118648/roll-racing-16
END:VEVENT
END:VCALENDAR
