BEGIN:VCALENDAR
VERSION:2.0
PRODID:-//arran4//Golang ICS Library
METHOD:PUBLISH
NAME:Last Class Bash
X-WR-CALNAME:Last Class Bash
DESCRIPTION:Calendar for Last Class Bash
TIMEZONE-ID:America/Moncton
BEGIN:VEVENT
UID:6f3b8bd6-ae34-4b89-a769-32c1196c655e
CREATED:20260420T062830Z
DTSTAMP:20260421T105936Z
LAST-MODIFIED:20260421T060806Z
SUMMARY:Last Class Bash
DESCRIPTION:Find more events at https://mymindisracing.com
DTSTART;TZID=America/Moncton:20260502T080000
LOCATION:Steeves Street\, Hillsborough Parish\, NB\, CA
GEO:45.9228066;-64.6434722
X-APPLE-STRUCTURED-LOCATION;VALUE=URI:geo:45.922807,-64.643472
X-TITLE:Last Class Bash
URL:https://dogrunnin.square.site/our-races
END:VEVENT
END:VCALENDAR
