BEGIN:VCALENDAR
VERSION:2.0
PRODID:-//arran4//Golang ICS Library
METHOD:PUBLISH
NAME:Quijada Trail
X-WR-CALNAME:Quijada Trail
DESCRIPTION:Calendar for Quijada Trail
TIMEZONE-ID:America/Argentina/Cordoba
BEGIN:VEVENT
UID:6eed57cc-d2e9-4733-a3a6-118fbe2a4ca2
CREATED:20260419T062033Z
DTSTAMP:20260421T105726Z
LAST-MODIFIED:20260421T060639Z
SUMMARY:Quijada Trail
DESCRIPTION:Find more events at https://mymindisracing.com
DTSTART:20260419T000000Z
LOCATION:Estancia Grande\, E\, AR
GEO:-31.4381956;-58.1196567
X-APPLE-STRUCTURED-LOCATION;VALUE=URI:geo:-31.438196,-58.119657
X-TITLE:Quijada Trail
URL:https://itra.run/Races/RaceDetails/Quijada.Trail.30K/2026/113123
END:VEVENT
END:VCALENDAR
