BEGIN:VCALENDAR
VERSION:2.0
PRODID:-//arran4//Golang ICS Library
METHOD:PUBLISH
NAME:Huttcross Membership 2026
X-WR-CALNAME:Huttcross Membership 2026
DESCRIPTION:Calendar for Huttcross Membership 2026
TIMEZONE-ID:Pacific/Auckland
BEGIN:VEVENT
UID:6e6b0f90-21f6-4ec2-977c-a13a3c98fc9e
CREATED:20260418T060336Z
DTSTAMP:20260421T085131Z
LAST-MODIFIED:20260421T060335Z
SUMMARY:Huttcross Membership 2026
DESCRIPTION:Find more events at https://mymindisracing.com
DTSTART:20260517T000000Z
LOCATION:Tasman District\, TAS\, NZ
GEO:-41.5000831;172.8344077
X-APPLE-STRUCTURED-LOCATION;VALUE=URI:geo:-41.500083,172.834408
X-TITLE:Huttcross Membership 2026
URL:https://www.huttcross.co.nz
END:VEVENT
END:VCALENDAR
