BEGIN:VCALENDAR
VERSION:2.0
PRODID:-//arran4//Golang ICS Library
METHOD:PUBLISH
NAME:Titanium Way - Criterium Series
X-WR-CALNAME:Titanium Way - Criterium Series
DESCRIPTION:Calendar for Titanium Way - Criterium Series
BEGIN:VEVENT
UID:6e2787ee-028c-4f2b-9b71-093be8bbae7f
CREATED:20260415T060513Z
DTSTAMP:20260423T122041Z
LAST-MODIFIED:20260423T060052Z
SUMMARY:Titanium Way - Criterium Series
DESCRIPTION:Find more events at https://mymindisracing.com
DTSTART:20260501T053000Z
DTEND:20260501T203000Z
LOCATION:Whitehorse\, YT\, CA
GEO:60.74568;-135.06685
X-APPLE-STRUCTURED-LOCATION;VALUE=URI:geo:60.745680,-135.066850
X-TITLE:Titanium Way - Criterium Series
URL:http://yukoncycling.com
END:VEVENT
END:VCALENDAR
