BEGIN:VCALENDAR
VERSION:2.0
PRODID:-//arran4//Golang ICS Library
METHOD:PUBLISH
NAME:Konjuh Trail&Run
X-WR-CALNAME:Konjuh Trail&Run
DESCRIPTION:Calendar for Konjuh Trail&Run
TIMEZONE-ID:Europe/Sarajevo
BEGIN:VEVENT
UID:6dc11d12-85c7-448b-8e90-12f214564bb3
CREATED:20260419T062029Z
DTSTAMP:20260421T105726Z
LAST-MODIFIED:20260421T060638Z
SUMMARY:Konjuh Trail&Run
DESCRIPTION:Find more events at https://mymindisracing.com
DTSTART:20260419T000000Z
LOCATION:Banovici\, BIH\, 75290\, BA
GEO:44.4088812;18.5292365
X-APPLE-STRUCTURED-LOCATION;VALUE=URI:geo:44.408881,18.529236
X-TITLE:Konjuh Trail&Run
URL:https://itra.run/Races/RaceDetails/Konjuh.Trail.Run.21k/2026/111859
END:VEVENT
END:VCALENDAR
