BEGIN:VCALENDAR
VERSION:2.0
PRODID:-//arran4//Golang ICS Library
METHOD:PUBLISH
NAME:Trail dos Moinhos
X-WR-CALNAME:Trail dos Moinhos
DESCRIPTION:Calendar for Trail dos Moinhos
TIMEZONE-ID:Europe/Lisbon
BEGIN:VEVENT
UID:6c47276b-49d0-49b7-aa8b-f77f5f1b2ef1
CREATED:20260419T062039Z
DTSTAMP:20260421T110100Z
LAST-MODIFIED:20260421T060639Z
SUMMARY:Trail dos Moinhos
DESCRIPTION:Find more events at https://mymindisracing.com
DTSTART:20260419T000000Z
LOCATION:Moita Dos Ferreiros\, 11\, PT
GEO:39.2482312;-9.2235577
X-APPLE-STRUCTURED-LOCATION;VALUE=URI:geo:39.248231,-9.223558
X-TITLE:Trail dos Moinhos
URL:https://itra.run/Races/RaceDetails/Trail.dos.Moinhos.Trail.Sprint.24KM/
 2026/113454
END:VEVENT
END:VCALENDAR
