BEGIN:VCALENDAR
VERSION:2.0
PRODID:-//arran4//Golang ICS Library
METHOD:PUBLISH
NAME:Southstar Drug Run for Wellness 2026 - MANILA
X-WR-CALNAME:Southstar Drug Run for Wellness 2026 - MANILA
DESCRIPTION:Calendar for Southstar Drug Run for Wellness 2026 - MANILA
TIMEZONE-ID:Asia/Manila
BEGIN:VEVENT
UID:6a988f5b-b36a-445f-a491-0936f8f69675
CREATED:20260420T064656Z
DTSTAMP:20260421T124127Z
LAST-MODIFIED:20260421T062033Z
SUMMARY:Southstar Drug Run for Wellness 2026 - MANILA
DESCRIPTION:Find more events at https://mymindisracing.com
DTSTART;TZID=Asia/Manila:20260425T030000
LOCATION:A. Roces Sr. Avenue\, Quezon City\, 00\, 1101\, PH
GEO:14.6537754;121.0685447
X-APPLE-STRUCTURED-LOCATION;VALUE=URI:geo:14.653775,121.068545
X-TITLE:Southstar Drug Run for Wellness 2026 - MANILA
URL:https://raceroster.com/events/2026/116675/southstar-drug-run-for-wellne
 ss-2026-manila
END:VEVENT
END:VCALENDAR
