BEGIN:VCALENDAR
VERSION:2.0
PRODID:-//arran4//Golang ICS Library
METHOD:PUBLISH
NAME:Run Like HECS
X-WR-CALNAME:Run Like HECS
DESCRIPTION:Calendar for Run Like HECS
TIMEZONE-ID:America/Halifax
BEGIN:VEVENT
UID:68c7f49b-a851-4368-bb03-47fa43fccc42
CREATED:20260420T063445Z
DTSTAMP:20260421T141642Z
LAST-MODIFIED:20260421T062315Z
SUMMARY:Run Like HECS
DESCRIPTION:Find more events at https://mymindisracing.com
DTSTART;TZID=America/Halifax:20260606T090000
LOCATION:Sailors Memorial Way\, Halifax\, NS\, CA
GEO:44.6262335;-63.5646174
X-APPLE-STRUCTURED-LOCATION;VALUE=URI:geo:44.626233,-63.564617
X-TITLE:Run Like HECS
URL:https://raceroster.com/events/2026/116518/run-like-hecs
END:VEVENT
END:VCALENDAR
