BEGIN:VCALENDAR
VERSION:2.0
PRODID:-//arran4//Golang ICS Library
METHOD:PUBLISH
NAME:TSARITSANI TRAILS
X-WR-CALNAME:TSARITSANI TRAILS
DESCRIPTION:Calendar for TSARITSANI TRAILS
TIMEZONE-ID:Europe/Athens
BEGIN:VEVENT
UID:687c0ad6-8cad-46c7-8c74-0d7f3d6d9c05
CREATED:20260415T063123Z
DTSTAMP:20260420T100433Z
LAST-MODIFIED:20260418T060627Z
SUMMARY:TSARITSANI TRAILS
DESCRIPTION:Find more events at https://mymindisracing.com
DTSTART:20260405T000000Z
LOCATION:Tsaritsani\, E\, 400 10\, GR
GEO:39.880432;22.2282775
X-APPLE-STRUCTURED-LOCATION;VALUE=URI:geo:39.880432,22.228278
X-TITLE:TSARITSANI TRAILS
URL:https://itra.run/Races/RaceDetails/TSARITSANI.TRAILS.KOUKOULI.TRAIL.32%
 CF%87%CE%BB%CE%BC/2026/113803
END:VEVENT
END:VCALENDAR
