BEGIN:VCALENDAR
VERSION:2.0
PRODID:-//arran4//Golang ICS Library
METHOD:PUBLISH
NAME:Middleton Heart of the Valley Century Ride 2026
X-WR-CALNAME:Middleton Heart of the Valley Century Ride 2026
DESCRIPTION:Calendar for Middleton Heart of the Valley Century Ride 2026
TIMEZONE-ID:America/Halifax
BEGIN:VEVENT
UID:673295d3-ca97-47af-b12e-a119f39e6711
CREATED:20260420T064645Z
DTSTAMP:20260421T105823Z
LAST-MODIFIED:20260421T061132Z
SUMMARY:Middleton Heart of the Valley Century Ride 2026
DESCRIPTION:Find more events at https://mymindisracing.com
DTSTART;TZID=America/Halifax:20260808T090000
LOCATION:Marshall Street\, Middleton\, NS\, CA
GEO:44.9473572;-65.0658319
X-APPLE-STRUCTURED-LOCATION;VALUE=URI:geo:44.947357,-65.065832
X-TITLE:Middleton Heart of the Valley Century Ride 2026
URL:https://www.discovermiddleton.ca/centuryride
END:VEVENT
END:VCALENDAR
