BEGIN:VCALENDAR
VERSION:2.0
PRODID:-//arran4//Golang ICS Library
METHOD:PUBLISH
NAME:LA DIAGONALE DES YVELINES
X-WR-CALNAME:LA DIAGONALE DES YVELINES
DESCRIPTION:Calendar for LA DIAGONALE DES YVELINES
TIMEZONE-ID:Europe/Paris
BEGIN:VEVENT
UID:66317c3a-298f-4b95-99c8-1cd6d67e41cf
CREATED:20260419T062052Z
DTSTAMP:20260421T105743Z
LAST-MODIFIED:20260421T060640Z
SUMMARY:LA DIAGONALE DES YVELINES
DESCRIPTION:Find more events at https://mymindisracing.com
DTSTART:20260418T000000Z
LOCATION:Breuil-Bois-Robert\, IDF\, 78930\, FR
GEO:48.9445377;1.7151446
X-APPLE-STRUCTURED-LOCATION;VALUE=URI:geo:48.944538,1.715145
X-TITLE:LA DIAGONALE DES YVELINES
URL:https://itra.run/Races/RaceDetails/LA.DIAGONALE.DES.YVELINES.100.KM/202
 6/109914
END:VEVENT
END:VCALENDAR
