BEGIN:VCALENDAR
VERSION:2.0
PRODID:-//arran4//Golang ICS Library
METHOD:PUBLISH
NAME:2026 Seamark MudRun
X-WR-CALNAME:2026 Seamark MudRun
DESCRIPTION:Calendar for 2026 Seamark MudRun
TIMEZONE-ID:America/New_York
BEGIN:VEVENT
UID:656fe1cb-94fc-4118-972e-3ef680978d10
CREATED:20260422T060009Z
DTSTAMP:20260423T094556Z
LAST-MODIFIED:20260423T060005Z
SUMMARY:2026 Seamark MudRun
DESCRIPTION:Find more events at https://mymindisracing.com
DTSTART;TZID=America/New_York:20260425T083000
DTEND;TZID=America/New_York:20260425T120000
LOCATION:3631 Seamark Ranch Road\, Green Cove Springs\, FL\, 32043\, US
GEO:29.987134;-81.862432
X-APPLE-STRUCTURED-LOCATION;VALUE=URI:geo:29.987134,-81.862432
X-TITLE:Seamark Ranch
URL:http://www.seamarkmudrun.com
END:VEVENT
END:VCALENDAR
