BEGIN:VCALENDAR
VERSION:2.0
PRODID:-//arran4//Golang ICS Library
METHOD:PUBLISH
NAME:Iznik Ultra
X-WR-CALNAME:Iznik Ultra
DESCRIPTION:Calendar for Iznik Ultra
TIMEZONE-ID:Europe/Istanbul
BEGIN:VEVENT
UID:65315d07-0682-4d3b-8e31-e5986cf9edcc
CREATED:20260419T062109Z
DTSTAMP:20260421T105619Z
LAST-MODIFIED:20260419T062109Z
SUMMARY:Iznik Ultra
DESCRIPTION:Find more events at https://mymindisracing.com
DTSTART:20260412T000000Z
LOCATION:Derbent Village\, 50\, TR
GEO:39;35
X-APPLE-STRUCTURED-LOCATION;VALUE=URI:geo:39.000000,35.000000
X-TITLE:Iznik Ultra
URL:https://itra.run/Races/RaceDetails/Iznik.Ultra.25K/2026/114304
END:VEVENT
END:VCALENDAR
