BEGIN:VCALENDAR
VERSION:2.0
PRODID:-//arran4//Golang ICS Library
METHOD:PUBLISH
NAME:ADF-Winnemucca Sprint Triathlon
X-WR-CALNAME:ADF-Winnemucca Sprint Triathlon
DESCRIPTION:Calendar for ADF-Winnemucca Sprint Triathlon
TIMEZONE-ID:America/Los_Angeles
BEGIN:VEVENT
UID:607fb1e7-c989-4a9a-8a20-93084f906f11
CREATED:20260420T060011Z
DTSTAMP:20260421T105742Z
LAST-MODIFIED:20260421T060017Z
SUMMARY:ADF-Winnemucca Sprint Triathlon
DESCRIPTION:Find more events at https://mymindisracing.com
DTSTART;TZID=America/Los_Angeles:20260530T070000
DTEND;TZID=America/Los_Angeles:20260530T105900
LOCATION:380 E Haskell St\, Winnemucca\, NV\, 89445\, US
GEO:40.97327;-117.725553
X-APPLE-STRUCTURED-LOCATION;VALUE=URI:geo:40.973270,-117.725553
X-TITLE:Bode Howard Memorial Pool
URL:http://www.adf-winnemucca.com
END:VEVENT
END:VCALENDAR
