BEGIN:VCALENDAR
VERSION:2.0
PRODID:-//arran4//Golang ICS Library
METHOD:PUBLISH
NAME:Course du Festival Acadien / Acadian Festival Road Race
X-WR-CALNAME:Course du Festival Acadien / Acadian Festival Road Race
DESCRIPTION:Calendar for Course du Festival Acadien / Acadian Festival Road
  Race
TIMEZONE-ID:America/Halifax
BEGIN:VEVENT
UID:602f0546-52a4-4f51-b5b0-0dbf55e991c2
CREATED:20260420T063145Z
DTSTAMP:20260421T105910Z
LAST-MODIFIED:20260421T061944Z
SUMMARY:Course du Festival Acadien / Acadian Festival Road Race
DESCRIPTION:Find more events at https://mymindisracing.com
DTSTART;TZID=America/Halifax:20260905T083000
LOCATION:Route 124\, Prince County\, PE\, CA
GEO:46.466809;-64.0254508
X-APPLE-STRUCTURED-LOCATION;VALUE=URI:geo:46.466809,-64.025451
X-TITLE:Course du Festival Acadien / Acadian Festival Road Race
URL:https://raceroster.com/
END:VEVENT
END:VCALENDAR
