BEGIN:VCALENDAR
VERSION:2.0
PRODID:-//arran4//Golang ICS Library
METHOD:PUBLISH
NAME:Running with the Champions
X-WR-CALNAME:Running with the Champions
DESCRIPTION:Calendar for Running with the Champions
TIMEZONE-ID:America/Port_of_Spain
BEGIN:VEVENT
UID:5f49eb18-3929-4c9a-8caf-42b8a6263a60
CREATED:20260422T062622Z
DTSTAMP:20260423T094706Z
LAST-MODIFIED:20260423T061652Z
SUMMARY:Running with the Champions
DESCRIPTION:Find more events at https://mymindisracing.com
DTSTART;TZID=America/Port_of_Spain:20260606T063000
LOCATION:35 Lady Chancellor Road\, Port Of Spain\, SJL\, 101002\, TT
GEO:10.681086;-61.51384
X-APPLE-STRUCTURED-LOCATION;VALUE=URI:geo:10.681086,-61.513840
X-TITLE:Running with the Champions
URL:http://powerpairproduction.com
END:VEVENT
END:VCALENDAR
