BEGIN:VCALENDAR
VERSION:2.0
PRODID:-//arran4//Golang ICS Library
METHOD:PUBLISH
NAME:Cloverdale Vineyard Races: 10K and 5K
X-WR-CALNAME:Cloverdale Vineyard Races: 10K and 5K
DESCRIPTION:Calendar for Cloverdale Vineyard Races: 10K and 5K
TIMEZONE-ID:America/Los_Angeles
BEGIN:VEVENT
UID:5e6d8183-1139-4486-b933-02f7c8181bea
CREATED:20260420T064715Z
DTSTAMP:20260421T105905Z
LAST-MODIFIED:20260421T060817Z
SUMMARY:Cloverdale Vineyard Races: 10K and 5K
DESCRIPTION:Find more events at https://mymindisracing.com
DTSTART;TZID=America/Los_Angeles:20261018T083000
LOCATION:Airport Road\, Cloverdale\, CA\, 95425\, US
GEO:38.7765339;-122.9930172
X-APPLE-STRUCTURED-LOCATION;VALUE=URI:geo:38.776534,-122.993017
X-TITLE:Cloverdale Vineyard Races: 10K and 5K
URL:http://cloverdalevineyardraces.org/
END:VEVENT
END:VCALENDAR
