BEGIN:VCALENDAR
VERSION:2.0
PRODID:-//arran4//Golang ICS Library
METHOD:PUBLISH
NAME:Travessa Mallorca Serra de Tramuntana
X-WR-CALNAME:Travessa Mallorca Serra de Tramuntana
DESCRIPTION:Calendar for Travessa Mallorca Serra de Tramuntana
TIMEZONE-ID:Europe/Madrid
BEGIN:VEVENT
UID:5e040460-51d7-4e2f-8131-343db1546c94
CREATED:20260420T062419Z
DTSTAMP:20260421T105726Z
LAST-MODIFIED:20260421T060643Z
SUMMARY:Travessa Mallorca Serra de Tramuntana
DESCRIPTION:Find more events at https://mymindisracing.com
DTSTART:20260411T000000Z
LOCATION:Port De Soller\, IB\, 07108\, ES
GEO:39.797761;2.6964152
X-APPLE-STRUCTURED-LOCATION;VALUE=URI:geo:39.797761,2.696415
X-TITLE:Travessa Mallorca Serra de Tramuntana
URL:https://itra.run/Races/RaceDetails/Travessa.Mallorca.Serra.de.Tramuntan
 a.Mitja.Travessa.Mallorca.Serra.de.Tramuntana/2026/116220
END:VEVENT
END:VCALENDAR
