BEGIN:VCALENDAR
VERSION:2.0
PRODID:-//arran4//Golang ICS Library
METHOD:PUBLISH
NAME:The Island Run
X-WR-CALNAME:The Island Run
DESCRIPTION:Calendar for The Island Run
TIMEZONE-ID:America/Halifax
BEGIN:VEVENT
UID:5ce46366-1104-4724-8cb3-c51db3174c2f
CREATED:20260420T064209Z
DTSTAMP:20260421T105742Z
LAST-MODIFIED:20260421T063142Z
SUMMARY:The Island Run
DESCRIPTION:Find more events at https://mymindisracing.com
DTSTART;TZID=America/Halifax:20260704T090000
LOCATION:4340 Chapel Road\, Kings County\, PE\, CA
GEO:46.238734;-62.6208872
X-APPLE-STRUCTURED-LOCATION;VALUE=URI:geo:46.238734,-62.620887
X-TITLE:The Island Run
URL:https://theislandwalk.ca/
END:VEVENT
END:VCALENDAR
