BEGIN:VCALENDAR
VERSION:2.0
PRODID:-//arran4//Golang ICS Library
METHOD:PUBLISH
NAME:Otter Dash
X-WR-CALNAME:Otter Dash
DESCRIPTION:Calendar for Otter Dash
TIMEZONE-ID:America/Los_Angeles
BEGIN:VEVENT
UID:5aa7980d-78b6-4f63-b1fe-1d67426b554a
CREATED:20260420T062717Z
DTSTAMP:20260421T141806Z
LAST-MODIFIED:20260421T063453Z
SUMMARY:Otter Dash
DESCRIPTION:Find more events at https://mymindisracing.com
DTSTART;TZID=America/Los_Angeles:20260425T090000
LOCATION:Levee Path\, Sacramento County\, CA\, 95827\, US
GEO:38.592208;-121.3342908
X-APPLE-STRUCTURED-LOCATION;VALUE=URI:geo:38.592208,-121.334291
X-TITLE:Otter Dash
URL:https://www.parkwayhalf.com/
END:VEVENT
END:VCALENDAR
