BEGIN:VCALENDAR
VERSION:2.0
PRODID:-//arran4//Golang ICS Library
METHOD:PUBLISH
NAME:Evia Ultra Trail
X-WR-CALNAME:Evia Ultra Trail
DESCRIPTION:Calendar for Evia Ultra Trail
TIMEZONE-ID:Europe/Athens
BEGIN:VEVENT
UID:579a7f4c-2b22-46c5-b70f-fc635edb9a33
CREATED:20260415T063127Z
DTSTAMP:20260420T084409Z
LAST-MODIFIED:20260418T060627Z
SUMMARY:Evia Ultra Trail
DESCRIPTION:Find more events at https://mymindisracing.com
DTSTART:20260404T000000Z
LOCATION:Steni Dhirfios\, H\, GR
GEO:38.58125;23.83806
X-APPLE-STRUCTURED-LOCATION;VALUE=URI:geo:38.581250,23.838060
X-TITLE:Evia Ultra Trail
URL:https://itra.run/Races/RaceDetails/Evia.Ultra.Trail.100k.Alt/2026/10503
 4
END:VEVENT
END:VCALENDAR
