BEGIN:VCALENDAR
VERSION:2.0
PRODID:-//arran4//Golang ICS Library
METHOD:PUBLISH
NAME:CAT Running 10th Annual 5K Fun Run/Walk
X-WR-CALNAME:CAT Running 10th Annual 5K Fun Run/Walk
DESCRIPTION:Calendar for CAT Running 10th Annual 5K Fun Run/Walk
TIMEZONE-ID:America/Los_Angeles
BEGIN:VEVENT
UID:572bf274-6eb3-442d-bf8f-5bd18360d2ac
CREATED:20260423T060008Z
DTSTAMP:20260424T074345Z
LAST-MODIFIED:20260424T060007Z
SUMMARY:CAT Running 10th Annual 5K Fun Run/Walk
DESCRIPTION:Find more events at https://mymindisracing.com
DTSTART;TZID=America/Los_Angeles:20260425T090000
DTEND;TZID=America/Los_Angeles:20260425T120000
LOCATION:6046 West Lake Sammamish Pkwy NE\, Redmond\, WA\, 98052\, US
GEO:47.662062;-122.126269
X-APPLE-STRUCTURED-LOCATION;VALUE=URI:geo:47.662062,-122.126269
X-TITLE:Marymoor Park
URL:http://catrunning.com
END:VEVENT
END:VCALENDAR
