BEGIN:VCALENDAR
VERSION:2.0
PRODID:-//arran4//Golang ICS Library
METHOD:PUBLISH
NAME:Jintan Maoshan Trail Challenge
X-WR-CALNAME:Jintan Maoshan Trail Challenge
DESCRIPTION:Calendar for Jintan Maoshan Trail Challenge
TIMEZONE-ID:Asia/Shanghai
BEGIN:VEVENT
UID:55a6da9e-5a63-4fa9-8a45-f0472aaf5b29
CREATED:20260419T062028Z
DTSTAMP:20260421T105042Z
LAST-MODIFIED:20260421T060638Z
SUMMARY:Jintan Maoshan Trail Challenge
DESCRIPTION:Find more events at https://mymindisracing.com
DTSTART:20260419T000000Z
LOCATION:Jintan\, JS\, 213200\, CN
GEO:31.7233197;119.5825196
X-APPLE-STRUCTURED-LOCATION;VALUE=URI:geo:31.723320,119.582520
X-TITLE:Jintan Maoshan Trail Challenge
URL:https://itra.run/Races/RaceDetails/Jintan.Maoshan.Trail.Challenge.40k/2
 026/114740
END:VEVENT
END:VCALENDAR
