BEGIN:VCALENDAR
VERSION:2.0
PRODID:-//arran4//Golang ICS Library
METHOD:PUBLISH
NAME:Daigu 50 Mengyin Off road Race
X-WR-CALNAME:Daigu 50 Mengyin Off road Race
DESCRIPTION:Calendar for Daigu 50 Mengyin Off road Race
TIMEZONE-ID:Asia/Shanghai
BEGIN:VEVENT
UID:557102b4-8ccd-4eca-8b77-28d82acad0b4
CREATED:20260419T062022Z
DTSTAMP:20260421T105030Z
LAST-MODIFIED:20260421T060638Z
SUMMARY:Daigu 50 Mengyin Off road Race
DESCRIPTION:Find more events at https://mymindisracing.com
DTSTART:20260419T000000Z
LOCATION:Linyi\, SD\, CN
GEO:35.1032403;118.3506988
X-APPLE-STRUCTURED-LOCATION;VALUE=URI:geo:35.103240,118.350699
X-TITLE:Daigu 50 Mengyin Off road Race
URL:https://itra.run/Races/RaceDetails/Daigu.50.Mengyin.Off.road.Race.40km/
 2026/115885
END:VEVENT
END:VCALENDAR
