BEGIN:VCALENDAR
VERSION:2.0
PRODID:-//arran4//Golang ICS Library
METHOD:PUBLISH
NAME:Gravel Growler 2026
X-WR-CALNAME:Gravel Growler 2026
DESCRIPTION:Calendar for Gravel Growler 2026
BEGIN:VEVENT
UID:5243a24f-be57-4fed-bee3-85e2d1398acb
CREATED:20260423T060037Z
DTSTAMP:20260423T134138Z
LAST-MODIFIED:20260423T060037Z
SUMMARY:Gravel Growler 2026
DESCRIPTION:Find more events at https://mymindisracing.com
DTSTART:20260926T110000Z
DTEND:20260926T170000Z
LOCATION:Whitehorse\, YT\, CA
GEO:60.64637;-135.0315
X-APPLE-STRUCTURED-LOCATION;VALUE=URI:geo:60.646370,-135.031500
X-TITLE:Gravel Growler 2026
URL:https://velonorthyukon.ca
END:VEVENT
END:VCALENDAR
